Package: paircompviz Version: 1.34.0 Command: /home/biocbuild/bbs-3.15-bioc/R/bin/R CMD build --keep-empty-dirs --no-resave-data paircompviz StartedAt: 2022-10-18 17:26:40 -0400 (Tue, 18 Oct 2022) EndedAt: 2022-10-18 17:27:12 -0400 (Tue, 18 Oct 2022) EllapsedTime: 32.6 seconds RetCode: 0 Status: OK PackageFile: paircompviz_1.34.0.tar.gz PackageFileSize: 343.5 KiB