Package: pRolocGUI Version: 2.6.0 Command: /home/biocbuild/bbs-3.15-bioc/R/bin/R CMD check --install=check:pRolocGUI.install-out.txt --library=/home/biocbuild/bbs-3.15-bioc/R/library --no-vignettes --timings pRolocGUI_2.6.0.tar.gz StartedAt: 2022-10-18 21:14:19 -0400 (Tue, 18 Oct 2022) EndedAt: 2022-10-18 21:18:16 -0400 (Tue, 18 Oct 2022) EllapsedTime: 237.8 seconds RetCode: 0 Status: OK CheckDir: pRolocGUI.Rcheck Warnings: 0