Package: omicsViewer Version: 1.0.1 Command: /Library/Frameworks/R.framework/Resources/bin/R CMD check --install=check:omicsViewer.install-out.txt --library=/Library/Frameworks/R.framework/Resources/library --no-vignettes --timings omicsViewer_1.0.1.tar.gz StartedAt: 2022-10-19 05:41:24 -0400 (Wed, 19 Oct 2022) EndedAt: 2022-10-19 05:48:34 -0400 (Wed, 19 Oct 2022) EllapsedTime: 430.4 seconds RetCode: 0 Status: OK CheckDir: omicsViewer.Rcheck Warnings: 0