Package: odseq Version: 1.23.0 Command: rm -rf odseq.buildbin-libdir && mkdir odseq.buildbin-libdir && D:\biocbuild\bbs-3.15-bioc\R\bin\R.exe CMD INSTALL --build --library=odseq.buildbin-libdir odseq_1.23.0.tar.gz StartedAt: 2022-03-17 21:25:59 -0400 (Thu, 17 Mar 2022) EndedAt: 2022-03-17 21:27:03 -0400 (Thu, 17 Mar 2022) EllapsedTime: 64.6 seconds RetCode: 0 Status: OK PackageFile: odseq_1.23.0.zip PackageFileSize: 256.6 KiB