Package: nullranges Version: 1.1.9 Command: chmod a+r nullranges -R && D:\biocbuild\bbs-3.15-bioc\R\bin\R.exe CMD build --keep-empty-dirs --no-resave-data nullranges StartedAt: 2022-03-17 17:29:43 -0400 (Thu, 17 Mar 2022) EndedAt: 2022-03-17 17:35:13 -0400 (Thu, 17 Mar 2022) EllapsedTime: 330.2 seconds RetCode: 0 Status: OK PackageFile: nullranges_1.1.9.tar.gz PackageFileSize: 2.604 MiB