Package: nullranges Version: 1.2.0 Command: /Library/Frameworks/R.framework/Resources/bin/R CMD build --keep-empty-dirs --no-resave-data nullranges StartedAt: 2022-10-18 20:12:41 -0400 (Tue, 18 Oct 2022) EndedAt: 2022-10-18 20:18:21 -0400 (Tue, 18 Oct 2022) EllapsedTime: 339.9 seconds RetCode: 0 Status: OK PackageFile: nullranges_1.2.0.tar.gz PackageFileSize: 3.827 MiB