Package: nullranges Version: 1.2.0 Command: rm -rf nullranges.buildbin-libdir && mkdir nullranges.buildbin-libdir && /Users/biocbuild/BBS/utils/build-universal.sh nullranges_1.2.0.tar.gz /Library/Frameworks/R.framework/Resources/bin/R nullranges.buildbin-libdir StartedAt: 2022-10-19 10:49:16 -0400 (Wed, 19 Oct 2022) EndedAt: 2022-10-19 10:50:29 -0400 (Wed, 19 Oct 2022) EllapsedTime: 73.2 seconds RetCode: 0 Status: OK PackageFile: nullranges_1.2.0.tgz PackageFileSize: 3.732 MiB