Package: nuCpos Version: 1.14.0 Command: /home/biocbuild/bbs-3.15-bioc/R/bin/R CMD build --keep-empty-dirs --no-resave-data nuCpos StartedAt: 2022-10-18 17:20:22 -0400 (Tue, 18 Oct 2022) EndedAt: 2022-10-18 17:20:46 -0400 (Tue, 18 Oct 2022) EllapsedTime: 24.1 seconds RetCode: 0 Status: OK PackageFile: nuCpos_1.14.0.tar.gz PackageFileSize: 1.059 MiB