Package: normr Version: 1.21.0 Command: D:\biocbuild\bbs-3.15-bioc\R\bin\R.exe CMD check --no-multiarch --install=check:normr.install-out.txt --library=D:\biocbuild\bbs-3.15-bioc\R\library --no-vignettes --timings normr_1.21.0.tar.gz StartedAt: 2022-03-17 19:44:59 -0400 (Thu, 17 Mar 2022) EndedAt: 2022-03-17 19:48:43 -0400 (Thu, 17 Mar 2022) EllapsedTime: 224.0 seconds RetCode: 0 Status: WARNINGS CheckDir: normr.Rcheck Warnings: 2