Package: multiSight Version: 1.4.0 Command: rm -rf multiSight.buildbin-libdir && mkdir multiSight.buildbin-libdir && F:\biocbuild\bbs-3.15-bioc\R\bin\R.exe CMD INSTALL --build --library=multiSight.buildbin-libdir multiSight_1.4.0.tar.gz StartedAt: 2022-10-19 06:14:01 -0400 (Wed, 19 Oct 2022) EndedAt: 2022-10-19 06:15:21 -0400 (Wed, 19 Oct 2022) EllapsedTime: 80.5 seconds RetCode: 0 Status: OK PackageFile: multiSight_1.4.0.zip PackageFileSize: 2.532 MiB