Package: mitch Version: 1.8.0 Command: rm -rf mitch.buildbin-libdir && mkdir mitch.buildbin-libdir && /Users/biocbuild/BBS/utils/build-universal.sh mitch_1.8.0.tar.gz /Library/Frameworks/R.framework/Resources/bin/R mitch.buildbin-libdir StartedAt: 2022-10-19 10:42:53 -0400 (Wed, 19 Oct 2022) EndedAt: 2022-10-19 10:43:08 -0400 (Wed, 19 Oct 2022) EllapsedTime: 14.5 seconds RetCode: 0 Status: OK PackageFile: mitch_1.8.0.tgz PackageFileSize: 520.8 KiB