Package: midasHLA Version: 1.4.0 Command: /Library/Frameworks/R.framework/Resources/bin/R CMD build --keep-empty-dirs --no-resave-data midasHLA StartedAt: 2022-10-18 19:43:58 -0400 (Tue, 18 Oct 2022) EndedAt: 2022-10-18 19:47:35 -0400 (Tue, 18 Oct 2022) EllapsedTime: 216.6 seconds RetCode: 0 Status: OK PackageFile: midasHLA_1.4.0.tar.gz PackageFileSize: 1.884 MiB