Package: microbiome Version: 1.18.0 Command: F:\biocbuild\bbs-3.15-bioc\R\bin\R.exe CMD INSTALL microbiome StartedAt: 2022-10-18 16:17:15 -0400 (Tue, 18 Oct 2022) EndedAt: 2022-10-18 16:17:58 -0400 (Tue, 18 Oct 2022) EllapsedTime: 42.6 seconds RetCode: 0 Status: OK