Package: methrix Version: 1.9.0 Command: rm -rf methrix.buildbin-libdir && mkdir methrix.buildbin-libdir && D:\biocbuild\bbs-3.15-bioc\R\bin\R.exe CMD INSTALL --build --library=methrix.buildbin-libdir methrix_1.9.0.tar.gz StartedAt: 2022-03-17 21:20:19 -0400 (Thu, 17 Mar 2022) EndedAt: 2022-03-17 21:21:44 -0400 (Thu, 17 Mar 2022) EllapsedTime: 85.3 seconds RetCode: 0 Status: OK PackageFile: methrix_1.9.0.zip PackageFileSize: 3.169 MiB