Package: methrix Version: 1.10.0 Command: chmod a+r methrix -R && F:\biocbuild\bbs-3.15-bioc\R\bin\R.exe CMD build --keep-empty-dirs --no-resave-data methrix StartedAt: 2022-10-18 19:27:49 -0400 (Tue, 18 Oct 2022) EndedAt: 2022-10-18 19:33:32 -0400 (Tue, 18 Oct 2022) EllapsedTime: 342.7 seconds RetCode: 0 Status: OK PackageFile: methrix_1.10.0.tar.gz PackageFileSize: 3.77 MiB