Package: metapod Version: 1.4.0 Command: chmod a+r metapod -R && F:\biocbuild\bbs-3.15-bioc\R\bin\R.exe CMD build --keep-empty-dirs --no-resave-data metapod StartedAt: 2022-10-18 19:26:01 -0400 (Tue, 18 Oct 2022) EndedAt: 2022-10-18 19:26:42 -0400 (Tue, 18 Oct 2022) EllapsedTime: 40.6 seconds RetCode: 0 Status: OK PackageFile: metapod_1.4.0.tar.gz PackageFileSize: 309.2 KiB