Package: megadepth Version: 1.5.0 Command: rm -rf megadepth.buildbin-libdir && mkdir megadepth.buildbin-libdir && D:\biocbuild\bbs-3.15-bioc\R\bin\R.exe CMD INSTALL --build --library=megadepth.buildbin-libdir megadepth_1.5.0.tar.gz StartedAt: 2022-03-17 21:19:30 -0400 (Thu, 17 Mar 2022) EndedAt: 2022-03-17 21:20:38 -0400 (Thu, 17 Mar 2022) EllapsedTime: 68.9 seconds RetCode: 0 Status: OK PackageFile: megadepth_1.5.0.zip PackageFileSize: 492.1 KiB