Package: maanova Version: 1.66.0 Command: /home/biocbuild/bbs-3.15-bioc/R/bin/R CMD check --install=check:maanova.install-out.txt --library=/home/biocbuild/bbs-3.15-bioc/R/library --no-vignettes --timings maanova_1.66.0.tar.gz StartedAt: 2022-10-18 20:21:54 -0400 (Tue, 18 Oct 2022) EndedAt: 2022-10-18 20:22:26 -0400 (Tue, 18 Oct 2022) EllapsedTime: 32.2 seconds RetCode: 0 Status: OK CheckDir: maanova.Rcheck Warnings: 0