Package: logicFS Version: 2.16.0 Command: /home/biocbuild/bbs-3.15-bioc/R/bin/R CMD check --install=check:logicFS.install-out.txt --library=/home/biocbuild/bbs-3.15-bioc/R/library --no-vignettes --timings logicFS_2.16.0.tar.gz StartedAt: 2022-10-18 20:20:41 -0400 (Tue, 18 Oct 2022) EndedAt: 2022-10-18 20:21:32 -0400 (Tue, 18 Oct 2022) EllapsedTime: 51.4 seconds RetCode: 0 Status: OK CheckDir: logicFS.Rcheck Warnings: 0