Package: infinityFlow Version: 1.5.0 Command: rm -rf infinityFlow.buildbin-libdir && mkdir infinityFlow.buildbin-libdir && D:\biocbuild\bbs-3.15-bioc\R\bin\R.exe CMD INSTALL --build --library=infinityFlow.buildbin-libdir infinityFlow_1.5.0.tar.gz StartedAt: 2022-02-16 21:32:58 -0500 (Wed, 16 Feb 2022) EndedAt: 2022-02-16 21:34:01 -0500 (Wed, 16 Feb 2022) EllapsedTime: 62.7 seconds RetCode: 0 Status: OK PackageFile: infinityFlow_1.5.0.zip PackageFileSize: 1.795 MiB