git_url: https://git.bioconductor.org/packages/iSEEu git_branch: RELEASE_3_15 git_last_commit: 30041dc git_last_commit_date: 2022-04-26 12:04:24 -0400 (Tue, 26 Apr 2022) Package: iSEEu Version: 1.8.0 Maintainer: Kevin Rue-Albrecht MaintainerEmail: kevinrue67 at gmail.com