git_url: https://git.bioconductor.org/packages/iBBiG git_branch: RELEASE_3_15 git_last_commit: eef8030 git_last_commit_date: 2022-04-26 11:10:45 -0400 (Tue, 26 Apr 2022) Package: iBBiG Version: 1.40.0 Maintainer: Aedin Culhane MaintainerEmail: aedin at jimmy.harvard.edu