git_url: https://git.bioconductor.org/packages/hipathia git_branch: RELEASE_3_15 git_last_commit: db2d24b git_last_commit_date: 2022-04-26 11:48:45 -0400 (Tue, 26 Apr 2022) Package: hipathia Version: 2.12.0 Maintainer: Marta R. Hidalgo MaintainerEmail: marta.hidalgo at outlook.es