Package: hca Version: 1.3.2 Command: rm -rf hca.buildbin-libdir && mkdir hca.buildbin-libdir && D:\biocbuild\bbs-3.15-bioc\R\bin\R.exe CMD INSTALL --build --library=hca.buildbin-libdir hca_1.3.2.tar.gz StartedAt: 2022-03-11 21:17:44 -0500 (Fri, 11 Mar 2022) EndedAt: 2022-03-11 21:18:57 -0500 (Fri, 11 Mar 2022) EllapsedTime: 73.0 seconds RetCode: 0 Status: OK PackageFile: hca_1.3.2.zip PackageFileSize: 611.5 KiB