Package: groHMM Version: 1.30.1 Command: F:\biocbuild\bbs-3.15-bioc\R\bin\R.exe CMD check --no-multiarch --install=check:groHMM.install-out.txt --library=F:\biocbuild\bbs-3.15-bioc\R\library --no-vignettes --timings groHMM_1.30.1.tar.gz StartedAt: 2022-10-19 00:49:32 -0400 (Wed, 19 Oct 2022) EndedAt: 2022-10-19 00:52:41 -0400 (Wed, 19 Oct 2022) EllapsedTime: 188.8 seconds RetCode: 0 Status: OK CheckDir: groHMM.Rcheck Warnings: 0