Package: groHMM Version: 1.30.1 Command: /home/biocbuild/bbs-3.15-bioc/R/bin/R CMD check --install=check:groHMM.install-out.txt --library=/home/biocbuild/bbs-3.15-bioc/R/library --no-vignettes --timings groHMM_1.30.1.tar.gz StartedAt: 2022-10-18 20:01:28 -0400 (Tue, 18 Oct 2022) EndedAt: 2022-10-18 20:04:40 -0400 (Tue, 18 Oct 2022) EllapsedTime: 191.4 seconds RetCode: 0 Status: OK CheckDir: groHMM.Rcheck Warnings: 0