Package: graphite Version: 1.42.0 Command: chmod a+r graphite -R && F:\biocbuild\bbs-3.15-bioc\R\bin\R.exe CMD build --keep-empty-dirs --no-resave-data graphite StartedAt: 2022-10-18 18:56:11 -0400 (Tue, 18 Oct 2022) EndedAt: 2022-10-18 18:57:27 -0400 (Tue, 18 Oct 2022) EllapsedTime: 76.2 seconds RetCode: 0 Status: OK PackageFile: graphite_1.42.0.tar.gz PackageFileSize: 772.5 KiB