Package: ggspavis Version: 1.1.7 Command: chmod a+r ggspavis -R && D:\biocbuild\bbs-3.15-bioc\R\bin\R.exe CMD build --keep-empty-dirs --no-resave-data ggspavis StartedAt: 2022-03-17 17:01:07 -0400 (Thu, 17 Mar 2022) EndedAt: 2022-03-17 17:08:46 -0400 (Thu, 17 Mar 2022) EllapsedTime: 458.9 seconds RetCode: 0 Status: OK PackageFile: ggspavis_1.1.7.tar.gz PackageFileSize: 2.069 MiB