Package: ggspavis Version: 1.2.0 Command: rm -rf ggspavis.buildbin-libdir && mkdir ggspavis.buildbin-libdir && F:\biocbuild\bbs-3.15-bioc\R\bin\R.exe CMD INSTALL --build --library=ggspavis.buildbin-libdir ggspavis_1.2.0.tar.gz StartedAt: 2022-10-19 05:57:56 -0400 (Wed, 19 Oct 2022) EndedAt: 2022-10-19 05:58:32 -0400 (Wed, 19 Oct 2022) EllapsedTime: 36.0 seconds RetCode: 0 Status: OK PackageFile: ggspavis_1.2.0.zip PackageFileSize: 2.102 MiB