Package: getDEE2 Version: 1.6.0 Command: /Library/Frameworks/R.framework/Resources/bin/R CMD build --keep-empty-dirs --no-resave-data getDEE2 StartedAt: 2022-10-18 18:44:56 -0400 (Tue, 18 Oct 2022) EndedAt: 2022-10-18 18:46:29 -0400 (Tue, 18 Oct 2022) EllapsedTime: 92.9 seconds RetCode: 0 Status: OK PackageFile: getDEE2_1.6.0.tar.gz PackageFileSize: 21.53 KiB