Package: flowUtils Version: 1.59.0 Command: D:\biocbuild\bbs-3.15-bioc\R\bin\R.exe CMD check --no-multiarch --install=check:flowUtils.install-out.txt --library=D:\biocbuild\bbs-3.15-bioc\R\library --no-vignettes --timings flowUtils_1.59.0.tar.gz StartedAt: 2022-03-17 19:07:30 -0400 (Thu, 17 Mar 2022) EndedAt: 2022-03-17 19:08:31 -0400 (Thu, 17 Mar 2022) EllapsedTime: 60.3 seconds RetCode: 0 Status: WARNINGS CheckDir: flowUtils.Rcheck Warnings: 1