Package: flowCL Version: 1.33.0 Command: chmod a+r flowCL -R && D:\biocbuild\bbs-3.15-bioc\R\bin\R.exe CMD build --keep-empty-dirs --no-resave-data flowCL StartedAt: 2022-03-17 16:51:36 -0400 (Thu, 17 Mar 2022) EndedAt: 2022-03-17 16:51:49 -0400 (Thu, 17 Mar 2022) EllapsedTime: 13.5 seconds RetCode: 0 Status: OK PackageFile: flowCL_1.33.0.tar.gz PackageFileSize: 224.8 KiB