Package: flowCL Version: 1.33.0 Command: rm -rf flowCL.buildbin-libdir && mkdir flowCL.buildbin-libdir && D:\biocbuild\bbs-3.15-bioc\R\bin\R.exe CMD INSTALL --build --library=flowCL.buildbin-libdir flowCL_1.33.0.tar.gz StartedAt: 2022-03-17 21:08:27 -0400 (Thu, 17 Mar 2022) EndedAt: 2022-03-17 21:09:24 -0400 (Thu, 17 Mar 2022) EllapsedTime: 56.9 seconds RetCode: 0 Status: OK PackageFile: flowCL_1.33.0.zip PackageFileSize: 306.2 KiB