Package: flowCL Version: 1.34.0 Command: rm -rf flowCL.buildbin-libdir && mkdir flowCL.buildbin-libdir && F:\biocbuild\bbs-3.15-bioc\R\bin\R.exe CMD INSTALL --build --library=flowCL.buildbin-libdir flowCL_1.34.0.tar.gz StartedAt: 2022-07-08 07:23:10 -0400 (Fri, 08 Jul 2022) EndedAt: 2022-07-08 07:23:17 -0400 (Fri, 08 Jul 2022) EllapsedTime: 7.1 seconds RetCode: 0 Status: OK PackageFile: flowCL_1.34.0.zip PackageFileSize: 260.2 KiB