Package: flowAI Version: 1.25.7 Command: chmod a+r flowAI -R && D:\biocbuild\bbs-3.15-bioc\R\bin\R.exe CMD build --keep-empty-dirs --no-resave-data flowAI StartedAt: 2022-03-17 16:51:23 -0400 (Thu, 17 Mar 2022) EndedAt: 2022-03-17 16:51:44 -0400 (Thu, 17 Mar 2022) EllapsedTime: 20.5 seconds RetCode: 0 Status: OK PackageFile: flowAI_1.25.7.tar.gz PackageFileSize: 3.731 MiB