Package: fabia Version: 2.41.0 Command: D:\biocbuild\bbs-3.15-bioc\R\bin\R.exe CMD check --no-multiarch --install=check:fabia.install-out.txt --library=D:\biocbuild\bbs-3.15-bioc\R\library --no-vignettes --timings fabia_2.41.0.tar.gz StartedAt: 2022-03-17 19:04:03 -0400 (Thu, 17 Mar 2022) EndedAt: 2022-03-17 19:04:53 -0400 (Thu, 17 Mar 2022) EllapsedTime: 50.0 seconds RetCode: 0 Status: OK CheckDir: fabia.Rcheck Warnings: 0