Package: fabia Version: 2.42.0 Command: /Library/Frameworks/R.framework/Resources/bin/R CMD build --keep-empty-dirs --no-resave-data fabia StartedAt: 2022-10-18 18:26:35 -0400 (Tue, 18 Oct 2022) EndedAt: 2022-10-18 18:27:07 -0400 (Tue, 18 Oct 2022) EllapsedTime: 32.4 seconds RetCode: 0 Status: OK PackageFile: fabia_2.42.0.tar.gz PackageFileSize: 783.9 KiB