Package: epiNEM Version: 1.20.0 Command: /home/biocbuild/bbs-3.15-bioc/R/bin/R CMD build --keep-empty-dirs --no-resave-data epiNEM StartedAt: 2022-10-18 16:33:58 -0400 (Tue, 18 Oct 2022) EndedAt: 2022-10-18 16:35:01 -0400 (Tue, 18 Oct 2022) EllapsedTime: 63.6 seconds RetCode: 0 Status: OK PackageFile: epiNEM_1.20.0.tar.gz PackageFileSize: 1.859 MiB