Package: edgeR Version: 3.37.1 Command: D:\biocbuild\bbs-3.15-bioc\R\bin\R.exe CMD INSTALL edgeR StartedAt: 2022-03-17 15:25:44 -0400 (Thu, 17 Mar 2022) EndedAt: 2022-03-17 15:28:13 -0400 (Thu, 17 Mar 2022) EllapsedTime: 148.6 seconds RetCode: 0 Status: OK