Package: edgeR Version: 3.37.1 Command: D:\biocbuild\bbs-3.15-bioc\R\bin\R.exe CMD check --no-multiarch --install=check:edgeR.install-out.txt --library=D:\biocbuild\bbs-3.15-bioc\R\library --no-vignettes --timings edgeR_3.37.1.tar.gz StartedAt: 2022-03-17 19:00:42 -0400 (Thu, 17 Mar 2022) EndedAt: 2022-03-17 19:02:12 -0400 (Thu, 17 Mar 2022) EllapsedTime: 90.9 seconds RetCode: 0 Status: OK CheckDir: edgeR.Rcheck Warnings: 0