Package: distinct Version: 1.7.1 Command: D:\biocbuild\bbs-3.15-bioc\R\bin\R.exe CMD check --no-multiarch --install=check:distinct.install-out.txt --library=D:\biocbuild\bbs-3.15-bioc\R\library --no-vignettes --timings distinct_1.7.1.tar.gz StartedAt: 2022-03-17 18:57:34 -0400 (Thu, 17 Mar 2022) EndedAt: 2022-03-17 19:03:13 -0400 (Thu, 17 Mar 2022) EllapsedTime: 338.9 seconds RetCode: 0 Status: OK CheckDir: distinct.Rcheck Warnings: 0