Package: distinct Version: 1.7.1 Command: chmod a+r distinct -R && D:\biocbuild\bbs-3.15-bioc\R\bin\R.exe CMD build --keep-empty-dirs --no-resave-data distinct StartedAt: 2022-03-17 16:45:13 -0400 (Thu, 17 Mar 2022) EndedAt: 2022-03-17 16:48:26 -0400 (Thu, 17 Mar 2022) EllapsedTime: 192.8 seconds RetCode: 0 Status: OK PackageFile: distinct_1.7.1.tar.gz PackageFileSize: 1.467 MiB