Package: distinct Version: 1.7.1 Command: rm -rf distinct.buildbin-libdir && mkdir distinct.buildbin-libdir && D:\biocbuild\bbs-3.15-bioc\R\bin\R.exe CMD INSTALL --build --library=distinct.buildbin-libdir distinct_1.7.1.tar.gz StartedAt: 2022-03-17 21:05:11 -0400 (Thu, 17 Mar 2022) EndedAt: 2022-03-17 21:06:21 -0400 (Thu, 17 Mar 2022) EllapsedTime: 70.1 seconds RetCode: 0 Status: OK PackageFile: distinct_1.7.1.zip PackageFileSize: 1.945 MiB