Package: distinct Version: 1.8.0 Command: /home/biocbuild/bbs-3.15-bioc/R/bin/R CMD build --keep-empty-dirs --no-resave-data distinct StartedAt: 2022-10-18 16:29:24 -0400 (Tue, 18 Oct 2022) EndedAt: 2022-10-18 16:33:36 -0400 (Tue, 18 Oct 2022) EllapsedTime: 251.6 seconds RetCode: 0 Status: OK PackageFile: distinct_1.8.0.tar.gz PackageFileSize: 1.791 MiB