git_url: https://git.bioconductor.org/packages/diffGeneAnalysis git_branch: RELEASE_3_15 git_last_commit: f747205 git_last_commit_date: 2022-04-26 10:57:21 -0400 (Tue, 26 Apr 2022) Package: diffGeneAnalysis Version: 1.78.0 Maintainer: Choudary Jagarlamudi MaintainerEmail: choudary.jagar at swosu.edu