Package: deepSNV Version: 1.42.1 Command: /home/biocbuild/bbs-3.15-bioc/R/bin/R CMD INSTALL deepSNV StartedAt: 2022-10-18 15:39:17 -0400 (Tue, 18 Oct 2022) EndedAt: 2022-10-18 15:40:05 -0400 (Tue, 18 Oct 2022) EllapsedTime: 47.4 seconds RetCode: 0 Status: OK