Package: deepSNV Version: 1.42.1 Command: /Library/Frameworks/R.framework/Resources/bin/R CMD check --install=check:deepSNV.install-out.txt --library=/Library/Frameworks/R.framework/Resources/library --no-vignettes --timings deepSNV_1.42.1.tar.gz StartedAt: 2022-10-19 01:24:33 -0400 (Wed, 19 Oct 2022) EndedAt: 2022-10-19 01:33:19 -0400 (Wed, 19 Oct 2022) EllapsedTime: 525.5 seconds RetCode: 0 Status: OK CheckDir: deepSNV.Rcheck Warnings: 0