Package: decompTumor2Sig Version: 2.12.0 Command: /Library/Frameworks/R.framework/Resources/bin/R CMD INSTALL decompTumor2Sig StartedAt: 2022-10-18 16:25:39 -0400 (Tue, 18 Oct 2022) EndedAt: 2022-10-18 16:26:58 -0400 (Tue, 18 Oct 2022) EllapsedTime: 78.7 seconds RetCode: 0 Status: OK