git_url: https://git.bioconductor.org/packages/decompTumor2Sig git_branch: RELEASE_3_15 git_last_commit: 8b41d1c git_last_commit_date: 2022-04-26 11:52:21 -0400 (Tue, 26 Apr 2022) Package: decompTumor2Sig Version: 2.12.0 Maintainer: Rosario M. Piro MaintainerEmail: rmpiro at gmail.com