Package: consensusSeekeR Version: 1.24.0 Command: rm -rf consensusSeekeR.buildbin-libdir && mkdir consensusSeekeR.buildbin-libdir && /Users/biocbuild/BBS/utils/build-universal.sh consensusSeekeR_1.24.0.tar.gz /Library/Frameworks/R.framework/Resources/bin/R consensusSeekeR.buildbin-libdir StartedAt: 2022-10-19 10:09:10 -0400 (Wed, 19 Oct 2022) EndedAt: 2022-10-19 10:10:05 -0400 (Wed, 19 Oct 2022) EllapsedTime: 54.9 seconds RetCode: 0 Status: OK PackageFile: consensusSeekeR_1.24.0.tgz PackageFileSize: 611 KiB